BEGIN:VCALENDAR
VERSION:2.0
PRODID:-//Weingut Waldbüsser - ECPv6.15.12.2//NONSGML v1.0//EN
CALSCALE:GREGORIAN
METHOD:PUBLISH
X-WR-CALNAME:Weingut Waldbüsser
X-ORIGINAL-URL:https://weingut-waldbuesser.de
X-WR-CALDESC:Veranstaltungen für Weingut Waldbüsser
REFRESH-INTERVAL;VALUE=DURATION:PT1H
X-Robots-Tag:noindex
X-PUBLISHED-TTL:PT1H
BEGIN:VTIMEZONE
TZID:Europe/Berlin
BEGIN:DAYLIGHT
TZOFFSETFROM:+0100
TZOFFSETTO:+0200
TZNAME:CEST
DTSTART:20220327T010000
END:DAYLIGHT
BEGIN:STANDARD
TZOFFSETFROM:+0200
TZOFFSETTO:+0100
TZNAME:CET
DTSTART:20221030T010000
END:STANDARD
BEGIN:DAYLIGHT
TZOFFSETFROM:+0100
TZOFFSETTO:+0200
TZNAME:CEST
DTSTART:20230326T010000
END:DAYLIGHT
BEGIN:STANDARD
TZOFFSETFROM:+0200
TZOFFSETTO:+0100
TZNAME:CET
DTSTART:20231029T010000
END:STANDARD
BEGIN:DAYLIGHT
TZOFFSETFROM:+0100
TZOFFSETTO:+0200
TZNAME:CEST
DTSTART:20240331T010000
END:DAYLIGHT
BEGIN:STANDARD
TZOFFSETFROM:+0200
TZOFFSETTO:+0100
TZNAME:CET
DTSTART:20241027T010000
END:STANDARD
END:VTIMEZONE
BEGIN:VEVENT
DTSTART;TZID=Europe/Berlin:20230105T150000
DTEND;TZID=Europe/Berlin:20230105T210000
DTSTAMP:20260426T061500
CREATED:20221109T223112Z
LAST-MODIFIED:20221129T155151Z
UID:1888-1672930800-1672952400@weingut-waldbuesser.de
SUMMARY:GLÜHWEINTREFF
DESCRIPTION:Genießen Sie unseren beliebten hausgemachten Glühwein vom Trollinger\, leckere Rote Wurst vom Grill und andere kleine Gerichte. Ausgewählte Weine und Sekt warten auf Sie – entweder im weihnachtlich geschmückten Hof oder im gemütlichen Innenbereich.
URL:https://weingut-waldbuesser.de/event/gluehweintreff-3/
CATEGORIES:Glühweintreff
ATTACH;FMTTYPE=image/jpeg:https://weingut-waldbuesser.de/wp-content/uploads/2021/11/Gluehwein_III.jpg
END:VEVENT
END:VCALENDAR