BEGIN:VCALENDAR
VERSION:2.0
PRODID:-//Weingut Waldbüsser - ECPv6.15.12.2//NONSGML v1.0//EN
CALSCALE:GREGORIAN
METHOD:PUBLISH
X-ORIGINAL-URL:https://weingut-waldbuesser.de
X-WR-CALDESC:Veranstaltungen für Weingut Waldbüsser
REFRESH-INTERVAL;VALUE=DURATION:PT1H
X-Robots-Tag:noindex
X-PUBLISHED-TTL:PT1H
BEGIN:VTIMEZONE
TZID:Europe/Berlin
BEGIN:DAYLIGHT
TZOFFSETFROM:+0100
TZOFFSETTO:+0200
TZNAME:CEST
DTSTART:20210328T010000
END:DAYLIGHT
BEGIN:STANDARD
TZOFFSETFROM:+0200
TZOFFSETTO:+0100
TZNAME:CET
DTSTART:20211031T010000
END:STANDARD
BEGIN:DAYLIGHT
TZOFFSETFROM:+0100
TZOFFSETTO:+0200
TZNAME:CEST
DTSTART:20220327T010000
END:DAYLIGHT
BEGIN:STANDARD
TZOFFSETFROM:+0200
TZOFFSETTO:+0100
TZNAME:CET
DTSTART:20221030T010000
END:STANDARD
BEGIN:DAYLIGHT
TZOFFSETFROM:+0100
TZOFFSETTO:+0200
TZNAME:CEST
DTSTART:20230326T010000
END:DAYLIGHT
BEGIN:STANDARD
TZOFFSETFROM:+0200
TZOFFSETTO:+0100
TZNAME:CET
DTSTART:20231029T010000
END:STANDARD
END:VTIMEZONE
BEGIN:VEVENT
DTSTART;TZID=Europe/Berlin:20220705T193000
DTEND;TZID=Europe/Berlin:20220705T213000
DTSTAMP:20260425T214316
CREATED:20220621T202000Z
LAST-MODIFIED:20220621T202121Z
UID:1814-1657049400-1657056600@weingut-waldbuesser.de
SUMMARY:Move & Drink - Yoga und Wein
DESCRIPTION:Hast du Lust auf eine Kombination von wohltuenden Bewegungen und erfrischendem Wein unter freiem Himmel\, einer idyllischen Atmosphäre und harmonischen Momenten? Dann melde dich an! \nWann: 05. Juli 2022 \n19.30 Uhr – 21.15 Uhr \nWo: Lerchenhof 1\, 71711 Steinheim \nTicket: 25 € \nDu brauchst: eine Matte und bequeme Kleidung \nAnmeldung: 0157 511 111 71\nLasolera aus Murr + Weingut Waldbüsser aus Kleinbottwar
URL:https://weingut-waldbuesser.de/event/move-drink-yoga-und-wein/
LOCATION:Kleinbottwar\, Lerchenhof 1\, Kleinbottwar\, 71711
ATTACH;FMTTYPE=image/png:https://weingut-waldbuesser.de/wp-content/uploads/2022/06/yoga_und_wein.png
ORGANIZER;CN="Weingut Waldb%C3%BCsser":MAILTO:info@weingut-waldbuesser.de
END:VEVENT
END:VCALENDAR