BEGIN:VCALENDAR
VERSION:2.0
PRODID:-//Weingut Waldbüsser - ECPv6.15.12.2//NONSGML v1.0//EN
CALSCALE:GREGORIAN
METHOD:PUBLISH
X-WR-CALNAME:Weingut Waldbüsser
X-ORIGINAL-URL:https://weingut-waldbuesser.de
X-WR-CALDESC:Veranstaltungen für Weingut Waldbüsser
REFRESH-INTERVAL;VALUE=DURATION:PT1H
X-Robots-Tag:noindex
X-PUBLISHED-TTL:PT1H
BEGIN:VTIMEZONE
TZID:Europe/Berlin
BEGIN:DAYLIGHT
TZOFFSETFROM:+0100
TZOFFSETTO:+0200
TZNAME:CEST
DTSTART:20250330T010000
END:DAYLIGHT
BEGIN:STANDARD
TZOFFSETFROM:+0200
TZOFFSETTO:+0100
TZNAME:CET
DTSTART:20251026T010000
END:STANDARD
BEGIN:DAYLIGHT
TZOFFSETFROM:+0100
TZOFFSETTO:+0200
TZNAME:CEST
DTSTART:20260329T010000
END:DAYLIGHT
BEGIN:STANDARD
TZOFFSETFROM:+0200
TZOFFSETTO:+0100
TZNAME:CET
DTSTART:20261025T010000
END:STANDARD
BEGIN:DAYLIGHT
TZOFFSETFROM:+0100
TZOFFSETTO:+0200
TZNAME:CEST
DTSTART:20270328T010000
END:DAYLIGHT
BEGIN:STANDARD
TZOFFSETFROM:+0200
TZOFFSETTO:+0100
TZNAME:CET
DTSTART:20271031T010000
END:STANDARD
END:VTIMEZONE
BEGIN:VEVENT
DTSTART;TZID=Europe/Berlin:20260603T170000
DTEND;TZID=Europe/Berlin:20260603T220000
DTSTAMP:20260419T151331
CREATED:20260209T154240Z
LAST-MODIFIED:20260209T154240Z
UID:2602-1780506000-1780524000@weingut-waldbuesser.de
SUMMARY:WEIN.ZEIT
DESCRIPTION:ESSEN\, TRINKEN\, GENIESSEN!\nAusgezeichnete Weine und kleine sommerliche Gerichte lassen sich wunderbar auf unserer großzügigen Terrasse genießen. \nvon 03.06. – 13.08.\nJEDEN\nMittwoch und Donnerstag\, 17-22 Uhr \nKeine Reservierung möglich\, findet bei jedem Wetter statt.\nBei Regen ausreichend Sitzmöglichkeiten im Innenbereich. \nWir freuen uns auf Ihren Besuch!\nIhre Familie Waldbüsser mit Team
URL:https://weingut-waldbuesser.de/event/wein-zeit-34/
ATTACH;FMTTYPE=image/png:https://weingut-waldbuesser.de/wp-content/uploads/2026/02/WeinZeit.png
END:VEVENT
BEGIN:VEVENT
DTSTART;TZID=Europe/Berlin:20260604T150000
DTEND;TZID=Europe/Berlin:20260604T220000
DTSTAMP:20260419T151331
CREATED:20260409T142037Z
LAST-MODIFIED:20260409T142037Z
UID:2615-1780585200-1780610400@weingut-waldbuesser.de
SUMMARY:WEIN.ZEIT - Feiertag
DESCRIPTION:ESSEN\, TRINKEN\, GENIESSEN!\nAusgezeichnete Weine und kleine sommerliche Gerichte lassen sich wunderbar auf unserer großzügigen Terrasse genießen. \nvon 03.06. – 13.08.\nJEDEN\nMittwoch und Donnerstag\, 17-22 Uhr \nKeine Reservierung möglich\, findet bei jedem Wetter statt.\nBei Regen ausreichend Sitzmöglichkeiten im Innenbereich. \nWir freuen uns auf Ihren Besuch!\nIhre Familie Waldbüsser mit Team
URL:https://weingut-waldbuesser.de/event/wein-zeit-feiertag/
CATEGORIES:WEIN.ZEIT
ATTACH;FMTTYPE=image/jpeg:https://weingut-waldbuesser.de/wp-content/uploads/2025/04/IMG_2945-scaled.jpeg
END:VEVENT
BEGIN:VEVENT
DTSTART;TZID=Europe/Berlin:20260610T170000
DTEND;TZID=Europe/Berlin:20260611T220000
DTSTAMP:20260419T151331
CREATED:20260409T142142Z
LAST-MODIFIED:20260409T142432Z
UID:2617-1781110800-1781215200@weingut-waldbuesser.de
SUMMARY:WEIN.ZEIT
DESCRIPTION:ESSEN\, TRINKEN\, GENIESSEN!\nAusgezeichnete Weine und kleine sommerliche Gerichte lassen sich wunderbar auf unserer großzügigen Terrasse genießen. \nvon 03.06. – 13.08.\nJEDEN\nMittwoch und Donnerstag\, 17-22 Uhr \nKeine Reservierung möglich\, findet bei jedem Wetter statt.\nBei Regen ausreichend Sitzmöglichkeiten im Innenbereich. \nWir freuen uns auf Ihren Besuch!\nIhre Familie Waldbüsser mit Team
URL:https://weingut-waldbuesser.de/event/wein-zeit-35/
CATEGORIES:WEIN.ZEIT
ATTACH;FMTTYPE=image/jpeg:https://weingut-waldbuesser.de/wp-content/uploads/2025/04/IMG_2945-scaled.jpeg
END:VEVENT
BEGIN:VEVENT
DTSTART;TZID=Europe/Berlin:20260617T170000
DTEND;TZID=Europe/Berlin:20260618T220000
DTSTAMP:20260419T151331
CREATED:20260409T142351Z
LAST-MODIFIED:20260409T142351Z
UID:2621-1781715600-1781820000@weingut-waldbuesser.de
SUMMARY:WEIN.ZEIT
DESCRIPTION:ESSEN\, TRINKEN\, GENIESSEN!\nAusgezeichnete Weine und kleine sommerliche Gerichte lassen sich wunderbar auf unserer großzügigen Terrasse genießen. \nvon 03.06. – 13.08.\nJEDEN\nMittwoch und Donnerstag\, 17-22 Uhr \nKeine Reservierung möglich\, findet bei jedem Wetter statt.\nBei Regen ausreichend Sitzmöglichkeiten im Innenbereich. \nWir freuen uns auf Ihren Besuch!\nIhre Familie Waldbüsser mit Team
URL:https://weingut-waldbuesser.de/event/wein-zeit-37/
CATEGORIES:WEIN.ZEIT
ATTACH;FMTTYPE=image/jpeg:https://weingut-waldbuesser.de/wp-content/uploads/2025/04/IMG_2945-scaled.jpeg
END:VEVENT
BEGIN:VEVENT
DTSTART;TZID=Europe/Berlin:20260624T170000
DTEND;TZID=Europe/Berlin:20260625T170000
DTSTAMP:20260419T151331
CREATED:20260409T142522Z
LAST-MODIFIED:20260409T142551Z
UID:2623-1782320400-1782406800@weingut-waldbuesser.de
SUMMARY:WEIN.ZEIT
DESCRIPTION:ESSEN\, TRINKEN\, GENIESSEN!\nAusgezeichnete Weine und kleine sommerliche Gerichte lassen sich wunderbar auf unserer großzügigen Terrasse genießen. \nvon 03.06. – 13.08.\nJEDEN\nMittwoch und Donnerstag\, 17-22 Uhr \nKeine Reservierung möglich\, findet bei jedem Wetter statt.\nBei Regen ausreichend Sitzmöglichkeiten im Innenbereich. \nWir freuen uns auf Ihren Besuch!\nIhre Familie Waldbüsser mit Team
URL:https://weingut-waldbuesser.de/event/wein-zeit-36/
CATEGORIES:WEIN.ZEIT
ATTACH;FMTTYPE=image/jpeg:https://weingut-waldbuesser.de/wp-content/uploads/2025/04/IMG_2945-scaled.jpeg
END:VEVENT
END:VCALENDAR