BEGIN:VCALENDAR
VERSION:2.0
PRODID:-//Weingut Waldbüsser - ECPv6.15.12.2//NONSGML v1.0//EN
CALSCALE:GREGORIAN
METHOD:PUBLISH
X-WR-CALNAME:Weingut Waldbüsser
X-ORIGINAL-URL:https://weingut-waldbuesser.de
X-WR-CALDESC:Veranstaltungen für Weingut Waldbüsser
REFRESH-INTERVAL;VALUE=DURATION:PT1H
X-Robots-Tag:noindex
X-PUBLISHED-TTL:PT1H
BEGIN:VTIMEZONE
TZID:Europe/Berlin
BEGIN:DAYLIGHT
TZOFFSETFROM:+0100
TZOFFSETTO:+0200
TZNAME:CEST
DTSTART:20250330T010000
END:DAYLIGHT
BEGIN:STANDARD
TZOFFSETFROM:+0200
TZOFFSETTO:+0100
TZNAME:CET
DTSTART:20251026T010000
END:STANDARD
BEGIN:DAYLIGHT
TZOFFSETFROM:+0100
TZOFFSETTO:+0200
TZNAME:CEST
DTSTART:20260329T010000
END:DAYLIGHT
BEGIN:STANDARD
TZOFFSETFROM:+0200
TZOFFSETTO:+0100
TZNAME:CET
DTSTART:20261025T010000
END:STANDARD
BEGIN:DAYLIGHT
TZOFFSETFROM:+0100
TZOFFSETTO:+0200
TZNAME:CEST
DTSTART:20270328T010000
END:DAYLIGHT
BEGIN:STANDARD
TZOFFSETFROM:+0200
TZOFFSETTO:+0100
TZNAME:CET
DTSTART:20271031T010000
END:STANDARD
END:VTIMEZONE
BEGIN:VEVENT
DTSTART;TZID=Europe/Berlin:20260708T170000
DTEND;TZID=Europe/Berlin:20260709T220000
DTSTAMP:20260419T181800
CREATED:20260409T142745Z
LAST-MODIFIED:20260409T142745Z
UID:2628-1783530000-1783634400@weingut-waldbuesser.de
SUMMARY:WEIN.ZEIT
DESCRIPTION:ESSEN\, TRINKEN\, GENIESSEN!\nAusgezeichnete Weine und kleine sommerliche Gerichte lassen sich wunderbar auf unserer großzügigen Terrasse genießen. \nvon 03.06. – 13.08.\nJEDEN\nMittwoch und Donnerstag\, 17-22 Uhr \nKeine Reservierung möglich\, findet bei jedem Wetter statt.\nBei Regen ausreichend Sitzmöglichkeiten im Innenbereich. \nWir freuen uns auf Ihren Besuch!\nIhre Familie Waldbüsser mit Team
URL:https://weingut-waldbuesser.de/event/wein-zeit-39/
CATEGORIES:WEIN.ZEIT
ATTACH;FMTTYPE=image/jpeg:https://weingut-waldbuesser.de/wp-content/uploads/2025/04/IMG_2945-scaled.jpeg
END:VEVENT
END:VCALENDAR